BEGIN:VCALENDAR
VERSION:2.0
METHOD:PUBLISH
PRODID:-//Agenda.ad//NONSGML v1.0//EN
BEGIN:VEVENT
CLASS:PUBLIC
UID:585603ec24cc80f63f3e2362c23f073b@agenda.ad
DTSTAMP:20260422T165615Z
DTSTART:20260619T220000Z
DTEND:20260619T220000Z
SUMMARY:Concert de primavera&nbsp;
DESCRIPTION:\n\nMés informació\nhttps://www.agenda.ad/activitat/la-mas
 sana/musica/concert-de-primavera \n\n\nOrganitza\nCoral de 
 Sant Antoni de la Massana i Coral de Sant Miquel d'Encamp
LOCATION:Església parroquial de Sant Iscle i Santa Victòria
SEQUENCE:0
TRANSP:OPAQUE
X-ALT-DESC;FMTTYPE=text/html:<!DOCTYPE HTML PUBLIC "-//W3C//DTD HTML 3.2//EN"><HTML><HEAD
 ><TITLE></TITLE></HEAD><BODY><FONT FACE="Arial" SIZE=2><br/>
 <br/><b>Més informació</b><br/><a href="https://www.agenda
 .ad/activitat/la-massana/musica/concert-de-primavera ">http
 s://www.agenda.ad/activitat/la-massana/musica/concert-de-pri
 mavera </a><br/><br/><br/><b>Organitza</b><br/>Coral de San
 t Antoni de la Massana i Coral de Sant Miquel d'Encamp</FONT
 ></BODY></HTML>
END:VEVENT
END:VCALENDAR